BEGIN:VCALENDAR
VERSION:2.0
PRODID:-//https://urretxu.eus///NONSGML kigkonsult.se iCalcreator 2.10.15//
METHOD:PUBLISH
BEGIN:VEVENT
UID:20260420T061832UTC-2213XtvfxM@https://urretxu.eus/
DTSTAMP:20260420T061832Z
DESCRIPTION:Alde zaharreko garai errenazentista eta barrokoko jauregi eta e
 txeen bitartez bertako gertaera historikoak ezagutuko ditugu. Gidaria: Jon
  Ander Arcelus.\nIzen-ematea: aldez aurretik eta doan: aizpuru.ur@urretxu.
 eus / 943 038088\n{rsfiles path='Cultura/agendak/Urretxu Ondarea.pdf'}\nAn
 tolatzailea: Ayuntamiento de Urretxu https://urretxu.eus/eu/sustapen-sozio
 kulturala/kultura/ekitaldia/19917-ondarearen-europako-jardunaldiak-ezagutu
 -urretxu-bere-arkitekturaren-bitartez/
DTSTART:20251018T100000Z
DTEND:20251018T120000Z
LOCATION:Iparragirre plaza (Urretxu) (Iparragirre Kalea\, 22\, 20700 Urretx
 u\, Gipuzkoa\, Spain)
SUMMARY:ONDAREAREN EUROPAKO JARDUNALDIAK. EZAGUTU URRETXU BERE ARKITEKTURAR
 EN BITARTEZ
URL:https://urretxu.eus/eu/sustapen-soziokulturala/kultura/ekitaldia/19917-
 ondarearen-europako-jardunaldiak-ezagutu-urretxu-bere-arkitekturaren-bitar
 tez/
END:VEVENT
END:VCALENDAR
