BEGIN:VCALENDAR
VERSION:2.0
PRODID:-//https://urretxu.eus///NONSGML kigkonsult.se iCalcreator 2.10.15//
METHOD:PUBLISH
BEGIN:VEVENT
UID:20260420T041658UTC-5816VOd5mc@https://urretxu.eus/
DTSTAMP:20260420T041658Z
DESCRIPTION:17 ostirala .- arratsaldean18 eta 19.- goiz eta arratsaldez\nAn
 tolatzailea: Lurra Dantza Taldea https://urretxu.eus/eu/sustapen-soziokult
 urala/kultura/ekitaldia/19916-garagardo-festa/
DTSTART:20251017T160000Z
DTEND:20251019T200000Z
LOCATION:Ederrena Pilotalekua (Urretxu) (San Martin Etxetaldea\, 4\, 20700 
 Urretxu\, Gipuzkoa\, Spain)
SUMMARY:GARAGARDO FESTA
URL:https://urretxu.eus/eu/sustapen-soziokulturala/kultura/ekitaldia/19916-
 garagardo-festa/
END:VEVENT
END:VCALENDAR
