BEGIN:VCALENDAR
VERSION:2.0
PRODID:-//https://urretxu.eus///NONSGML kigkonsult.se iCalcreator 2.10.15//
METHOD:PUBLISH
BEGIN:VEVENT
UID:20260420T061500UTC-8964MaLjP4@https://urretxu.eus/
DTSTAMP:20260420T061500Z
DESCRIPTION:Antolatzailea: Urretxu eta Zumarragako udalak eta Udal Euskalte
 gia\n  https://urretxu.eus/eu/sustapen-soziokulturala/kultura/ekitaldia/19
 908-irakurle-taldea-liburua-pleibak-miren-amuriza-idazlearena/
DTSTART:20251007T170000Z
DTEND:20251007T180000Z
LOCATION:Zelai Arizti kultur etxea (Zumarraga) (Legazpi Kalea\, 7\, 20700 Z
 umarraga\, Gipuzkoa\, Spain)
SUMMARY:IRAKURLE TALDEA Liburua: 'PLEIBAK'\, Miren Amuriza idazlearena
URL:https://urretxu.eus/eu/sustapen-soziokulturala/kultura/ekitaldia/19908-
 irakurle-taldea-liburua-pleibak-miren-amuriza-idazlearena/
END:VEVENT
END:VCALENDAR
