BEGIN:VCALENDAR
VERSION:2.0
PRODID:-//https://urretxu.eus///NONSGML kigkonsult.se iCalcreator 2.10.15//
METHOD:PUBLISH
BEGIN:VEVENT
UID:20260420T061301UTC-7239EuKU84@https://urretxu.eus/
DTSTAMP:20260420T061301Z
DESCRIPTION:• Kuota: 10\,30€ Programa honetako 3 saio edo gehiagotan apunta
 tuz gero\, %25eko deskontua)• Izen-ematea: urriaren 7ra arte kultur etxean
 \nAntolatzailea: Urretxuko Udala https://urretxu.eus/eu/sustapen-soziokult
 urala/kultura/ekitaldia/19906-giza-irudia-ikastaroa-josu-marotorekin/
DTSTART:20251007T163000Z
DTEND:20251007T190000Z
LOCATION:Labeaga Aretoa (Urretxu) (Labeaga Kalea\, 20\, 20700 Urretxu\, Gip
 uzkoa\, Spain)
SUMMARY:GIZA IRUDIA IKASTAROA\, Josu Marotorekin
URL:https://urretxu.eus/eu/sustapen-soziokulturala/kultura/ekitaldia/19906-
 giza-irudia-ikastaroa-josu-marotorekin/
END:VEVENT
END:VCALENDAR
