BEGIN:VCALENDAR
VERSION:2.0
PRODID:-//https://urretxu.eus///NONSGML kigkonsult.se iCalcreator 2.10.15//
METHOD:PUBLISH
BEGIN:VEVENT
UID:20260420T074844UTC-1688iBNfn4@https://urretxu.eus/
DTSTAMP:20260420T074844Z
DESCRIPTION:ANTOLATZAILEA: Urretxuko Udala\n\nIrakaslea: Josu Maroto\nKuota
 : 10\,30€\nIzen ematea: azaroaren 3a arte kultur etxean\nPrograma honetako
  3 saio edo gehiagotan apuntatuz gero\, %25eko deskontua\n\n\n  https://ur
 retxu.eus/eu/sustapen-soziokulturala/kultura/ekitaldia/19874-giza-irudia-i
 kastaroa/
DTSTART:20251104T173000Z
DTEND:20251104T200000Z
LOCATION:Labeaga Aretoa (Urretxu) (Labeaga Kalea\, 20\, 20700 Urretxu\, Gip
 uzkoa\, Spain)
SUMMARY:GIZA IRUDIA IKASTAROA
URL:https://urretxu.eus/eu/sustapen-soziokulturala/kultura/ekitaldia/19874-
 giza-irudia-ikastaroa/
END:VEVENT
END:VCALENDAR
