BEGIN:VCALENDAR
VERSION:2.0
PRODID:-//https://urretxu.eus///NONSGML kigkonsult.se iCalcreator 2.10.15//
METHOD:PUBLISH
BEGIN:VEVENT
UID:20260420T060524UTC-4897ucJaW7@https://urretxu.eus/
DTSTAMP:20260420T060524Z
DESCRIPTION:ANTOLATZAILEA: Urretxuko Udala\n\n\nKuota: 10\,30€\n\n\nInforma
 zioa eta Izen-ematea: kultur etxean 943038088\n\n\nPrograma honetako 3 sai
 o edo gehiagotan apuntatuz gero\, %25eko deskontua\n\n\n https://urretxu.e
 us/eu/sustapen-soziokulturala/kultura/ekitaldia/19815-akuarela-ikastaroa-m
 aster-class-mendorekin/
DTSTART:20250516T163000Z
DTEND:20250516T190000Z
LOCATION:Aizpurunea Kultur Etxea (Urretxu) (Jauregi Kalea\, 19\, 20700 Urre
 txu\, Gipuzkoa\, Spain)
SUMMARY:AKUARELA IKASTAROA MASTER CLASS  Mendorekin
URL:https://urretxu.eus/eu/sustapen-soziokulturala/kultura/ekitaldia/19815-
 akuarela-ikastaroa-master-class-mendorekin/
END:VEVENT
END:VCALENDAR
