BEGIN:VCALENDAR
VERSION:2.0
PRODID:-//https://urretxu.eus///NONSGML kigkonsult.se iCalcreator 2.10.15//
METHOD:PUBLISH
BEGIN:VEVENT
UID:20260420T042418UTC-2543ETRudE@https://urretxu.eus/
DTSTAMP:20260420T042418Z
DESCRIPTION:Antolatzailea: Lizarriturri txistulari elkartea https://urretxu
 .eus/eu/sustapen-soziokulturala/kultura/ekitaldia/19795-inauteriak-lizarri
 turri-txistulari-elkartearen-kalejira/
DTSTART:20260214T090000Z
DTEND:20260214T110000Z
LOCATION:Urretxuko kaleetan zehar (Iparragirre Kalea\, 20700 Urretxu\, Gipu
 zkoa\, Spain)
SUMMARY:INAUTERIAK - LIZARRITURRI TXISTULARI ELKARTEAREN KALEJIRA
URL:https://urretxu.eus/eu/sustapen-soziokulturala/kultura/ekitaldia/19795-
 inauteriak-lizarriturri-txistulari-elkartearen-kalejira/
END:VEVENT
END:VCALENDAR
