BEGIN:VCALENDAR
VERSION:2.0
PRODID:-//https://urretxu.eus///NONSGML kigkonsult.se iCalcreator 2.10.15//
METHOD:PUBLISH
BEGIN:VEVENT
UID:20260420T041752UTC-19798C2V0z@https://urretxu.eus/
DTSTAMP:20260420T041752Z
DESCRIPTION:Eguraldi onarekin Zelai Arizti pilotalekuan\, txarra egingo bal
 u Azoka gunean (Zumarraga)Antolatzailea: Urretxu eta Zumarragako udalak ht
 tps://urretxu.eus/eu/sustapen-soziokulturala/kultura/ekitaldia/19794-inaut
 eriak-dj-festa/
DTSTART:20260213T153000Z
DTEND:20260213T183000Z
LOCATION:Zelai Aristi pilotalekua (Zumarraga) (Jai-Alai Kalea\, 11\, 20700 
 Zumarraga\, Gipuzkoa\, Spain)
SUMMARY:INAUTERIAK - DJ FESTA
URL:https://urretxu.eus/eu/sustapen-soziokulturala/kultura/ekitaldia/19794-
 inauteriak-dj-festa/
END:VEVENT
END:VCALENDAR
