BEGIN:VCALENDAR
VERSION:2.0
PRODID:-//https://urretxu.eus///NONSGML kigkonsult.se iCalcreator 2.10.15//
METHOD:PUBLISH
BEGIN:VEVENT
UID:20260420T042545UTC-0529BrM7IV@https://urretxu.eus/
DTSTAMP:20260420T042545Z
DESCRIPTION:Antolatzailea: Iparragirre Balerdi Musika Tailerra https://urre
 txu.eus/eu/sustapen-soziokulturala/kultura/ekitaldia/19791-inauteriak-ipar
 ragirre-balerdi-musika-bandaren-inauterietako-kalejira/
DTSTART:20260214T103000Z
DTEND:20260214T113000Z
LOCATION:Urretxuko kaleetan zehar (Iparragirre Kalea\, 20700 Urretxu\, Gipu
 zkoa\, Spain)
SUMMARY:INAUTERIAK - IPARRAGIRRE BALERDI MUSIKA BANDAREN INAUTERIETAKO KALE
 JIRA
URL:https://urretxu.eus/eu/sustapen-soziokulturala/kultura/ekitaldia/19791-
 inauteriak-iparragirre-balerdi-musika-bandaren-inauterietako-kalejira/
END:VEVENT
END:VCALENDAR
