BEGIN:VCALENDAR
VERSION:2.0
PRODID:-//https://urretxu.eus///NONSGML kigkonsult.se iCalcreator 2.10.15//
METHOD:PUBLISH
BEGIN:VEVENT
UID:20260420T042545UTC-4577xC2PBn@https://urretxu.eus/
DTSTAMP:20260420T042545Z
DESCRIPTION:Iparragirre plaza eta ondoren Urretxuko baserriak\nAntolatzaile
 a: Lurra dantza taldea https://urretxu.eus/eu/sustapen-soziokulturala/kult
 ura/ekitaldia/19790-inauteriak-xxxvi-herri-inauteria-ataungo-mozorro-txuri
 -dantza/
DTSTART:20260214T080000Z
DTEND:20260214T100000Z
LOCATION:Iparragirre plaza (Urretxu) (Iparragirre Kalea\, 22\, 20700 Urretx
 u\, Gipuzkoa\, Spain)
SUMMARY:INAUTERIAK - XXXVI. HERRI INAUTERIA:  “ATAUNGO “MOZORRO TXURI DANTZ
 A”
URL:https://urretxu.eus/eu/sustapen-soziokulturala/kultura/ekitaldia/19790-
 inauteriak-xxxvi-herri-inauteria-ataungo-mozorro-txuri-dantza/
END:VEVENT
END:VCALENDAR
