BEGIN:VCALENDAR
VERSION:2.0
PRODID:-//https://urretxu.eus///NONSGML kigkonsult.se iCalcreator 2.10.15//
METHOD:PUBLISH
BEGIN:VEVENT
UID:20260420T042121UTC-1874dWHZBH@https://urretxu.eus/
DTSTAMP:20260420T042121Z
DESCRIPTION:Antolatzailea: Gainzuri\, Ikastola eta La Salle ikastetxeak htt
 ps://urretxu.eus/eu/sustapen-soziokulturala/kultura/ekitaldia/19788-inaute
 riak-ikastetxeetako-festa/
DTSTART:20260213T133000Z
DTEND:20260213T153000Z
LOCATION:Urretxuko kaleetan zehar (Iparragirre Kalea\, 20700 Urretxu\, Gipu
 zkoa\, Spain)
SUMMARY:INAUTERIAK - IKASTETXEETAKO FESTA
URL:https://urretxu.eus/eu/sustapen-soziokulturala/kultura/ekitaldia/19788-
 inauteriak-ikastetxeetako-festa/
END:VEVENT
END:VCALENDAR
