BEGIN:VCALENDAR
VERSION:2.0
PRODID:-//https://urretxu.eus///NONSGML kigkonsult.se iCalcreator 2.10.15//
METHOD:PUBLISH
BEGIN:VEVENT
UID:20260420T042524UTC-9264XLHsc7@https://urretxu.eus/
DTSTAMP:20260420T042524Z
DESCRIPTION:Herriko ikastetxeetan\nAntolatzailea: Urretxu eta Zumarragako u
 dalak https://urretxu.eus/eu/sustapen-soziokulturala/kultura/ekitaldia/197
 87-inauteriak-ostegun-gizena-bokadilo-eta-laranja-banaketa-ikastetxeetan/
DTSTART:20260212T080000Z
DTEND:20260212T110000Z
LOCATION:Urretxuko kaleetan zehar (Iparragirre Kalea\, 20700 Urretxu\, Gipu
 zkoa\, Spain)
SUMMARY:INAUTERIAK - OSTEGUN GIZENA: BOKADILO ETA LARANJA BANAKETA IKASTETX
 EETAN
URL:https://urretxu.eus/eu/sustapen-soziokulturala/kultura/ekitaldia/19787-
 inauteriak-ostegun-gizena-bokadilo-eta-laranja-banaketa-ikastetxeetan/
END:VEVENT
END:VCALENDAR
