BEGIN:VCALENDAR
VERSION:2.0
PRODID:-//https://urretxu.eus///NONSGML kigkonsult.se iCalcreator 2.10.15//
METHOD:PUBLISH
BEGIN:VEVENT
UID:20260420T041711UTC-9503h4mRb8@https://urretxu.eus/
DTSTAMP:20260420T041711Z
DESCRIPTION:    • 14 ostirala\, arratsaldez     • 15 larunbata\, goiz eta a
 rratsaldezEguraldi txarrarekin Aldiri kiroldegian Antolatzailea: Goierri K
 .E. https://urretxu.eus/eu/sustapen-soziokulturala/kultura/ekitaldia/19532
 -3-x-3-saski-baloi-txapelketa/
DTSTART:20250613T090000Z
DTEND:20250615T160000Z
LOCATION:Lizeoko zelaia (Urretxu) (Labeaga Kalea\, 25\, 20700 Urretxu\, Gip
 uzkoa\, Spain)
SUMMARY:3 X 3 SASKI BALOI TXAPELKETA
URL:https://urretxu.eus/eu/sustapen-soziokulturala/kultura/ekitaldia/19532-
 3-x-3-saski-baloi-txapelketa/
END:VEVENT
END:VCALENDAR
