BEGIN:VCALENDAR
VERSION:2.0
PRODID:-//https://urretxu.eus///NONSGML kigkonsult.se iCalcreator 2.10.15//
METHOD:PUBLISH
BEGIN:VEVENT
UID:20260420T042407UTC-2402bzkFXn@https://urretxu.eus/
DTSTAMP:20260420T042407Z
DESCRIPTION: \nTOKIA: Urretxuko kaleak eta Gernikako Arbola plaza\nANTOLATZ
 AILEA: Iparragirre Balerdi Musika Tailerra\n\n  https://urretxu.eus/eu/sus
 tapen-soziokulturala/kultura/ekitaldia/19471-iparragirre-balerdi-musika-ba
 ndaren-udaberriko-kalejira/
DTSTART:20250504T093000Z
DTEND:20250504T103000Z
LOCATION:Urretxu (Kalea Iparragirre\, 20W\, 20700 Urretxu\, Gipuzkoa\, Spai
 n)
SUMMARY:IPARRAGIRRE BALERDI MUSIKA BANDAREN UDABERRIKO - KALEJIRA
URL:https://urretxu.eus/eu/sustapen-soziokulturala/kultura/ekitaldia/19471-
 iparragirre-balerdi-musika-bandaren-udaberriko-kalejira/
END:VEVENT
END:VCALENDAR
