BEGIN:VCALENDAR
VERSION:2.0
PRODID:-//https://urretxu.eus///NONSGML kigkonsult.se iCalcreator 2.10.15//
METHOD:PUBLISH
BEGIN:VEVENT
UID:20260420T042028UTC-6513w4xvxl@https://urretxu.eus/
DTSTAMP:20260420T042028Z
DESCRIPTION:Urretxu eta Zumarragako kaleak\nAntolatzailea: Urretxu eta Zuma
 rragako udalak https://urretxu.eus/eu/sustapen-soziokulturala/kultura/ekit
 aldia/19392-inauteriak-txaranga-kalejira-jundajo/
DTSTART:20260214T113000Z
DTEND:20260214T140000Z
LOCATION:Urretxu eta Zumarragako kaleak (Labeaga Kalea\, 18\, 20700 Urretxu
 \, Gipuzkoa\, Spain)
SUMMARY:INAUTERIAK: TXARANGA KALEJIRA “JUNDAJO”
URL:https://urretxu.eus/eu/sustapen-soziokulturala/kultura/ekitaldia/19392-
 inauteriak-txaranga-kalejira-jundajo/
END:VEVENT
END:VCALENDAR
