BEGIN:VCALENDAR
VERSION:2.0
PRODID:-//https://urretxu.eus///NONSGML kigkonsult.se iCalcreator 2.10.15//
METHOD:PUBLISH
BEGIN:VEVENT
UID:20260420T041943UTC-5048P38fJO@https://urretxu.eus/
DTSTAMP:20260420T041943Z
DESCRIPTION:Datak: 17tik 24ra. Ordutegia: 17:00-20:00. Gaia: 2025ko egutegi
 ak.\nANTOLATZAILEA: Gainzuri ikastetxea\n  https://urretxu.eus/eu/sustapen
 -soziokulturala/kultura/ekitaldia/19258-gainzuri-ikastetxeko-ikasleen-erak
 usketa/
DTSTART:20250117T160000Z
DTEND:20250124T190000Z
LOCATION:Zelai Arizti aretoa (Zumarraga) (Legazpi Kalea\, 7\, 20700 Zumarra
 ga\, Gipuzkoa\, Spain)
SUMMARY:GAINZURI IKASTETXEKO IKASLEEN ERAKUSKETA
URL:https://urretxu.eus/eu/sustapen-soziokulturala/kultura/ekitaldia/19258-
 gainzuri-ikastetxeko-ikasleen-erakusketa/
END:VEVENT
END:VCALENDAR
