BEGIN:VCALENDAR
VERSION:2.0
PRODID:-//https://urretxu.eus///NONSGML kigkonsult.se iCalcreator 2.10.15//
METHOD:PUBLISH
BEGIN:VEVENT
UID:20260420T060531UTC-5386S8xbmx@https://urretxu.eus/
DTSTAMP:20260420T060531Z
DESCRIPTION:ORGANIZA: Urretxuko Udala\n\nMonitor: Aitor Etxeberria\nCuota: 
 16 euros al mes\nInscripciones: a partir del 4 de enero\, en la casa de cu
 ltura 943 038088\n\n https://urretxu.eus/eu/sustapen-soziokulturala/kultur
 a/ekitaldia/19257-curso-de-pintura-y-dibujo/
DTSTART:20241002T163000Z
DTEND:20241002T183000Z
LOCATION:Aizpurunea Kultur Etxea (Urretxu) (Jauregi Kalea\, 19\, 20700 Urre
 txu\, Gipuzkoa\, Spain)
SUMMARY:CURSO DE PINTURA Y DIBUJO
URL:https://urretxu.eus/eu/sustapen-soziokulturala/kultura/ekitaldia/19257-
 curso-de-pintura-y-dibujo/
END:VEVENT
END:VCALENDAR
