BEGIN:VCALENDAR
VERSION:2.0
PRODID:-//https://urretxu.eus///NONSGML kigkonsult.se iCalcreator 2.10.15//
METHOD:PUBLISH
BEGIN:VEVENT
UID:20260420T061354UTC-5685vxIgvT@https://urretxu.eus/
DTSTAMP:20260420T061354Z
DESCRIPTION:¿Qué nos cuentan las palabras? ¿Cómo surgen\, por qué cambian s
 u forma\, se adaptan a los tiempos o dejan de ser útiles?\nSi tienes curio
 sidad por saberlo acércate.\nDoan!Informazioa eta Izen-ematea: Aizpurunea 
  kultur etxea  943 038088\nAntolatzailea: Urretxuko Udala https://urretxu.
 eus/eu/sustapen-soziokulturala/kultura/ekitaldia/19205-liss-evermore-idazl
 earen-literatura-ikastaroa/
DTSTART:20240206T180000Z
DTEND:20240206T190000Z
LOCATION:Aizpurunea Kultur Etxea (Urretxu) (Jauregi Kalea\, 19\, 20700 Urre
 txu\, Gipuzkoa\, Spain)
SUMMARY:LISS EVERMORE idazlearen LITERATURA IKASTAROA
URL:https://urretxu.eus/eu/sustapen-soziokulturala/kultura/ekitaldia/19205-
 liss-evermore-idazlearen-literatura-ikastaroa/
END:VEVENT
END:VCALENDAR
