BEGIN:VCALENDAR
VERSION:2.0
PRODID:-//https://urretxu.eus///NONSGML kigkonsult.se iCalcreator 2.10.15//
METHOD:PUBLISH
BEGIN:VEVENT
UID:20260420T105305UTC-5131683WeU@https://urretxu.eus/
DTSTAMP:20260420T105305Z
DESCRIPTION:También se enseñará arte decorativo\, reciclaje\, pintura acríl
 ica\, pintura abstracta\, etc.\nMonitor: Edurne UribesalgoCuota: 35 euroDu
 ración: hasta el 5 de marzo de 2025Inscripción: hasta el 4 de octubre en l
 a Casa de Cultura 943 038088\nOrganiza: Harizpi Eskulan Elkartea  https://
 urretxu.eus/eu/sustapen-soziokulturala/kultura/ekitaldia/19108-inicio-curs
 o-de-restauracion-de-muebles/
DTSTART:20241009T130000Z
DTEND:20241009T150000Z
LOCATION:Aizpurunea Kultur Etxea (Urretxu) (Jauregi Kalea\, 19\, 20700 Urre
 txu\, Gipuzkoa\, Spain)
SUMMARY:INICIO CURSO DE RESTAURACIÓN DE MUEBLES
URL:https://urretxu.eus/eu/sustapen-soziokulturala/kultura/ekitaldia/19108-
 inicio-curso-de-restauracion-de-muebles/
END:VEVENT
END:VCALENDAR
