BEGIN:VCALENDAR
VERSION:2.0
PRODID:-//https://urretxu.eus///NONSGML kigkonsult.se iCalcreator 2.10.15//
METHOD:PUBLISH
BEGIN:VEVENT
UID:20260420T041656UTC-99752zWrj3@https://urretxu.eus/
DTSTAMP:20260420T041656Z
DESCRIPTION:18 ostirala - arratsaldean19 larunbata eta 20 igandea - goiz et
 a arratsaldez\nAntolatzailea: Lurra Dantza Taldea https://urretxu.eus/eu/s
 ustapen-soziokulturala/kultura/ekitaldia/19098-garagardo-festa/
DTSTART:20241018T160000Z
DTEND:20241020T180000Z
LOCATION:Ederrena Pilotalekua (Urretxu) (San Martin Etxetaldea\, 4\, 20700 
 Urretxu\, Gipuzkoa\, Spain)
SUMMARY:GARAGARDO FESTA
URL:https://urretxu.eus/eu/sustapen-soziokulturala/kultura/ekitaldia/19098-
 garagardo-festa/
END:VEVENT
END:VCALENDAR
