BEGIN:VCALENDAR
VERSION:2.0
PRODID:-//https://urretxu.eus///NONSGML kigkonsult.se iCalcreator 2.10.15//
METHOD:PUBLISH
BEGIN:VEVENT
UID:20260420T042247UTC-0672iEftcO@https://urretxu.eus/
DTSTAMP:20260420T042247Z
DESCRIPTION:HAURRENTZAKO ZIENTZIA TAILERRAK (6-12 urte)\n\nHARRI BITXIAK\nS
 U MENDIA\nPAPEREZKO MAMUAK\n\nDoanInformazioa eta izen-ematea: maiatzaren 
 6tik 15era\, edo lekuak agortu arte: urrelur@urretxu.eus\nAntolatzailea: U
 rrelur Museoa – Museoen eguna https://urretxu.eus/eu/sustapen-soziokultura
 la/kultura/ekitaldia/18952-urrelur-museoen-eguna-ospatzen-haurrentzako-zie
 ntzia-tailerrak/
DTSTART;VALUE=DATE:20240516
LOCATION:Urrelur. Mineral eta fosil museoa (Urretxu) (Jauregi Kalea\, 19\, 
 20700 Urretxu\, Gipuzkoa\, Spain)
SUMMARY:URRELUR: MUSEOEN EGUNA OSPATZEN: HAURRENTZAKO ZIENTZIA TAILERRAK
URL:https://urretxu.eus/eu/sustapen-soziokulturala/kultura/ekitaldia/18952-
 urrelur-museoen-eguna-ospatzen-haurrentzako-zientzia-tailerrak/
END:VEVENT
END:VCALENDAR
