BEGIN:VCALENDAR
VERSION:2.0
PRODID:-//https://urretxu.eus///NONSGML kigkonsult.se iCalcreator 2.10.15//
METHOD:PUBLISH
BEGIN:VEVENT
UID:20260420T061037UTC-49833mhdiZ@https://urretxu.eus/
DTSTAMP:20260420T061037Z
DESCRIPTION:ORGANIZA: Secundino Esnaola Musika Eskola\nLUGAR: calles de Urr
 etxu y Zumarrraga https://urretxu.eus/eu/sustapen-soziokulturala/kultura/e
 kitaldia/18803-carnaval-2024-desfile-de-carnaval-de-alumnos-as-secundino-e
 snaola/
DTSTART:20240210T160000Z
DTEND:20240210T190000Z
LOCATION:Urretxu eta Zumarragako kaleak (Labeaga Kalea\, 18\, 20700 Urretxu
 \, Gipuzkoa\, Spain)
SUMMARY:CARNAVAL 2024: DESFILE DE CARNAVAL DE ALUMNOS/AS SECUNDINO ESNAOLA
URL:https://urretxu.eus/eu/sustapen-soziokulturala/kultura/ekitaldia/18803-
 carnaval-2024-desfile-de-carnaval-de-alumnos-as-secundino-esnaola/
END:VEVENT
END:VCALENDAR
