BEGIN:VCALENDAR
VERSION:2.0
PRODID:-//https://urretxu.eus///NONSGML kigkonsult.se iCalcreator 2.10.15//
METHOD:PUBLISH
BEGIN:VEVENT
UID:20260420T080240UTC-57644Fs3aH@https://urretxu.eus/
DTSTAMP:20260420T080240Z
DESCRIPTION:Liburua: YO\, VIEJA\, Anna Freixas\nANTOLATZAILEA: Urretxuko Ud
 ala\n\n  https://urretxu.eus/eu/sustapen-soziokulturala/kultura/ekitaldia/
 18736-munduko-emakumeen-literaturaren-kluba-yo-vieja/
DTSTART:20230228T173000Z
DTEND:20230228T183000Z
LOCATION:Aizpurunea Kultur Etxea (Urretxu) (Jauregi Kalea\, 19\, 20700 Urre
 txu\, Gipuzkoa\, Spain)
SUMMARY:MUNDUKO EMAKUMEEN LITERATURAREN KLUBA: YO VIEJA
URL:https://urretxu.eus/eu/sustapen-soziokulturala/kultura/ekitaldia/18736-
 munduko-emakumeen-literaturaren-kluba-yo-vieja/
END:VEVENT
END:VCALENDAR
