BEGIN:VCALENDAR
VERSION:2.0
PRODID:-//https://urretxu.eus///NONSGML kigkonsult.se iCalcreator 2.10.15//
METHOD:PUBLISH
BEGIN:VEVENT
UID:20260420T093736UTC-3468lHDvhD@https://urretxu.eus/
DTSTAMP:20260420T093736Z
DESCRIPTION:Antolatzailea: Mairi Emakume Elkartea\nLaguntzaileak: Urretxu e
 ta Zumarragako udalak.\nIKASTAROAK\nJOSTEA\nOrdutegia\nostegunak: 10:00 – 
 12:00\nBegiralea: Mila Guijarro\nInformazioa\nMairi Emakume Elkartea: 943 
 53 35 89 – 685 777 070 https://urretxu.eus/eu/sustapen-soziokulturala/kult
 ura/ekitaldia/1872-ikastaroak-mairi-emakume-elkartea-jostea-ostegunak-goiz
 ean/
DTSTART:20180405T080000Z
DTEND:20180405T100000Z
LOCATION:Aizpurunea Kultur Etxea (Urretxu) (Jauregi Kalea\, 19\, 20700 Urre
 txu\, Gipuzkoa\, Spain)
SUMMARY:Ikastaroak: Mairi Emakume Elkartea - JOSTEA (ostegunak goizean)
URL:https://urretxu.eus/eu/sustapen-soziokulturala/kultura/ekitaldia/1872-i
 kastaroak-mairi-emakume-elkartea-jostea-ostegunak-goizean/
END:VEVENT
END:VCALENDAR
