BEGIN:VCALENDAR
VERSION:2.0
PRODID:-//https://urretxu.eus///NONSGML kigkonsult.se iCalcreator 2.10.15//
METHOD:PUBLISH
BEGIN:VEVENT
UID:20260420T093808UTC-4007LLvV7M@https://urretxu.eus/
DTSTAMP:20260420T093808Z
DESCRIPTION:Liburua: '2023-02-28 19:00”\, Xabier Montoia Antolatzailea: Urr
 etxu eta Zumarragako udalak eta Udal Euskaltegia https://urretxu.eus/eu/su
 stapen-soziokulturala/kultura/ekitaldia/18168-irakurle-taldea-taxiak-ez-di
 ra-inoiz-gelditzen/
DTSTART:20230228T180000Z
DTEND:20230228T190000Z
LOCATION:Aizpurunea Kultur Etxea (Urretxu) (Jauregi Kalea\, 19\, 20700 Urre
 txu\, Gipuzkoa\, Spain)
SUMMARY:IRAKURLE TALDEA: 'TAXIAK EZ DIRA INOIZ GELDITZEN”
URL:https://urretxu.eus/eu/sustapen-soziokulturala/kultura/ekitaldia/18168-
 irakurle-taldea-taxiak-ez-dira-inoiz-gelditzen/
END:VEVENT
END:VCALENDAR
