BEGIN:VCALENDAR
VERSION:2.0
PRODID:-//https://urretxu.eus///NONSGML kigkonsult.se iCalcreator 2.10.15//
METHOD:PUBLISH
BEGIN:VEVENT
UID:20260420T042030UTC-2118CG58vd@https://urretxu.eus/
DTSTAMP:20260420T042030Z
DESCRIPTION:Aterpe elkarteak antolatuta https://urretxu.eus/eu/sustapen-soz
 iokulturala/kultura/ekitaldia/18154-larogei-urte-beteak-dituenen-eguna/
DTSTART:20241012T120000Z
DTEND:20241012T140000Z
LOCATION:Aterpe Jubilatuen elkartea (Urretxu) (Diseminados Barreiatua\, 40\
 , 20700 Urretxu\, Gipuzkoa\, Spain)
SUMMARY:LAROGEI URTE BETEAK DITUENEN EGUNA
URL:https://urretxu.eus/eu/sustapen-soziokulturala/kultura/ekitaldia/18154-
 larogei-urte-beteak-dituenen-eguna/
END:VEVENT
END:VCALENDAR
