BEGIN:VCALENDAR
VERSION:2.0
PRODID:-//https://urretxu.eus///NONSGML kigkonsult.se iCalcreator 2.10.15//
METHOD:PUBLISH
BEGIN:VEVENT
UID:20260420T103516UTC-2051LI0VKl@https://urretxu.eus/
DTSTAMP:20260420T103516Z
DESCRIPTION:EGUNA: irailak 9 - 24\nORDUA: Egun osan\nEUSKAL JAIA\, irailak 
 17\nANTOLATZAILEA: Herriko hainbat elkarte eta Urretxuko Udala\n \n> Deska
 rgatu Santa Anastia 2023 Egitaraua\n> Ezagutu Santa Anastasiako karrozak\n
   https://urretxu.eus/eu/sustapen-soziokulturala/kultura/ekitaldia/18091-s
 anta-anastasia-jaiak/
DTSTART;VALUE=DATE:20230909
LOCATION:Urretxu (Kalea Iparragirre\, 20W\, 20700 Urretxu\, Gipuzkoa\, Spai
 n)
SUMMARY:SANTA ANASTASIA JAIAK
URL:https://urretxu.eus/eu/sustapen-soziokulturala/kultura/ekitaldia/18091-
 santa-anastasia-jaiak/
END:VEVENT
END:VCALENDAR
