BEGIN:VCALENDAR
VERSION:2.0
PRODID:-//https://urretxu.eus///NONSGML kigkonsult.se iCalcreator 2.10.15//
METHOD:PUBLISH
BEGIN:VEVENT
UID:20260420T041848UTC-2874MEuLpK@https://urretxu.eus/
DTSTAMP:20260420T041848Z
DESCRIPTION:Antolatzailea: Urretxu eta Zumarragako Goierri eta Ostadar MT\,
  Ikastola\, Lekaio eta Zintzo-Mintzo elkarteak https://urretxu.eus/eu/sust
 apen-soziokulturala/kultura/ekitaldia/17650-25-inaki-beitia-mendi-martxa/
DTSTART:20240519T060000Z
DTEND:20240519T120000Z
LOCATION:Areizaga - Kalebarren plaza (Urretxu) (Areizaga-Kalebarren)
SUMMARY:25. IÑAKI BEITIA MENDI MARTXA
URL:https://urretxu.eus/eu/sustapen-soziokulturala/kultura/ekitaldia/17650-
 25-inaki-beitia-mendi-martxa/
END:VEVENT
END:VCALENDAR
