BEGIN:VCALENDAR
VERSION:2.0
PRODID:-//https://urretxu.eus///NONSGML kigkonsult.se iCalcreator 2.10.15//
METHOD:PUBLISH
BEGIN:VEVENT
UID:20260420T075141UTC-2084j2tge0@https://urretxu.eus/
DTSTAMP:20260420T075141Z
DESCRIPTION:ANTOLATZAILEA: Gainzuri\, Ikastola eta La Salle ikastetxeak\nOR
 DUA: 14:30 – 16:00\nTOKIA: herriko kaleetan https://urretxu.eus/eu/sustape
 n-soziokulturala/kultura/ekitaldia/17538-inauteriak-2024---ikastetxeetako-
 festa/
DTSTART:20240209T133000Z
DTEND:20240209T153000Z
LOCATION:Urretxu (Kalea Iparragirre\, 20W\, 20700 Urretxu\, Gipuzkoa\, Spai
 n)
SUMMARY:INAUTERIAK 2024 – IKASTETXEETAKO FESTA
URL:https://urretxu.eus/eu/sustapen-soziokulturala/kultura/ekitaldia/17538-
 inauteriak-2024---ikastetxeetako-festa/
END:VEVENT
END:VCALENDAR
