BEGIN:VCALENDAR
VERSION:2.0
PRODID:-//https://urretxu.eus///NONSGML kigkonsult.se iCalcreator 2.10.15//
METHOD:PUBLISH
BEGIN:VEVENT
UID:20260420T055905UTC-7900287l6D@https://urretxu.eus/
DTSTAMP:20260420T055905Z
DESCRIPTION:DÍA: 26 sábado\nHORA: 11:30\nPASACALLE DE CARNAVAL: IPARRAGIRRE
  BALERDI MUSIKA BANDA\nLUGAR: Urretxuko kaleak\nORGANIZA: Iparragirre Bale
 rdi Musika Tailerra\n\n  https://urretxu.eus/eu/sustapen-soziokulturala/ku
 ltura/ekitaldia/17535-pasacalle-de-carnaval-iparragirre-balerdi-musika-ban
 da/
DTSTART;VALUE=DATE:20220226
LOCATION:Urretxu (Kalea Iparragirre\, 20W\, 20700 Urretxu\, Gipuzkoa\, Spai
 n)
SUMMARY:PASACALLE DE CARNAVAL: IPARRAGIRRE BALERDI MUSIKA BANDA
URL:https://urretxu.eus/eu/sustapen-soziokulturala/kultura/ekitaldia/17535-
 pasacalle-de-carnaval-iparragirre-balerdi-musika-banda/
END:VEVENT
END:VCALENDAR
