BEGIN:VCALENDAR
VERSION:2.0
PRODID:-//https://urretxu.eus///NONSGML kigkonsult.se iCalcreator 2.10.15//
METHOD:PUBLISH
BEGIN:VEVENT
UID:20260420T042013UTC-8700fbK1kU@https://urretxu.eus/
DTSTAMP:20260420T042013Z
DESCRIPTION:Día: 18\, sábado\nHORA: 09:00\nXXXII CARNAVAL RURAL: “URRETXUKO
  SORGIN DANTZA”\nLUGAR: Iparragirre plaza y caseríos de Urretxu\nORGANIZA:
  Lurra dantza taldea https://urretxu.eus/eu/sustapen-soziokulturala/kultur
 a/ekitaldia/17533-carnaval-2023-xxxiii-carnaval-rural-urretxuko-sorgin-dan
 tza/
DTSTART:20230218T080000Z
DTEND:20230218T100000Z
LOCATION:Iparragirre plaza (Urretxu) (Iparragirre Kalea\, 22\, 20700 Urretx
 u\, Gipuzkoa\, Spain)
SUMMARY:CARNAVAL 2023: XXXIII. CARNAVAL RURAL ”URRETXUKO SORGIN DANTZA'
URL:https://urretxu.eus/eu/sustapen-soziokulturala/kultura/ekitaldia/17533-
 carnaval-2023-xxxiii-carnaval-rural-urretxuko-sorgin-dantza/
END:VEVENT
END:VCALENDAR
