BEGIN:VCALENDAR
VERSION:2.0
PRODID:-//https://urretxu.eus///NONSGML kigkonsult.se iCalcreator 2.10.15//
METHOD:PUBLISH
BEGIN:VEVENT
UID:20260420T093505UTC-0235ikPcIs@https://urretxu.eus/
DTSTAMP:20260420T093505Z
DESCRIPTION:BENEDICTION\, Terence Davis\, 137´\, Erresuma Batua Butak 21 Zi
 ne Kluba Entrada: 4€ Bono: 40 € https://urretxu.eus/eu/sustapen-soziokultu
 rala/kultura/ekitaldia/17519-cine-club-benediction/
DTSTART:20221111T210000Z
DTEND:20221111T223000Z
LOCATION:Zelai Arizti aretoa (Zumarraga) (Legazpi Kalea\, 7\, 20700 Zumarra
 ga\, Gipuzkoa\, Spain)
SUMMARY:CINE CLUB  'BENEDICTION'
URL:https://urretxu.eus/eu/sustapen-soziokulturala/kultura/ekitaldia/17519-
 cine-club-benediction/
END:VEVENT
END:VCALENDAR
