BEGIN:VCALENDAR
VERSION:2.0
PRODID:-//https://urretxu.eus///NONSGML kigkonsult.se iCalcreator 2.10.15//
METHOD:PUBLISH
BEGIN:VEVENT
UID:20260420T042223UTC-6947H5uvGe@https://urretxu.eus/
DTSTAMP:20260420T042223Z
DESCRIPTION:17:00 – 19:00 \n6\, San Martin auzoko parkean\, karpan (Urretxu
 )\n\nBeste saioak:\n13\, Belaustegi plazan parkean (Urretxu)\n20\, Zelai A
 ritzi parkea (Zumarraga)\n27\, Trintxeretako parkea (Zumarraga) https://ur
 retxu.eus/eu/sustapen-soziokulturala/kultura/ekitaldia/17472-parketarrak-h
 aur-eta-horien-gurasoentzat-jolasak-euskaraz/
DTSTART:20221006T150000Z
DTEND:20221006T160000Z
LOCATION:San Martin - Barrenkaleko parke estali berria (Urretxu) (Euskadi P
 laza\, 5\, 20700 Zumarraga\, Gipuzkoa\, Urretxu\, Spain)
SUMMARY:PARKETARRAK (haur eta horien gurasoentzat jolasak euskaraz)
URL:https://urretxu.eus/eu/sustapen-soziokulturala/kultura/ekitaldia/17472-
 parketarrak-haur-eta-horien-gurasoentzat-jolasak-euskaraz/
END:VEVENT
END:VCALENDAR
