BEGIN:VCALENDAR
VERSION:2.0
PRODID:-//https://urretxu.eus///NONSGML kigkonsult.se iCalcreator 2.10.15//
METHOD:PUBLISH
BEGIN:VEVENT
UID:20260420T075357UTC-3306vU1tNU@https://urretxu.eus/
DTSTAMP:20260420T075357Z
DESCRIPTION:Lanak aurkezteko: Zelai Arizti kultur etxea (Zumarraga)\, Aizpu
 runea kultur etxea (Urretxu) https://urretxu.eus/eu/sustapen-soziokultural
 a/kultura/ekitaldia/17265-haurrentzako-gabonetako-krisma-eta-ipuin-lehiake
 tak/
DTSTART:20211126T080000Z
DTEND:20211126T190000Z
LOCATION:Zelai Arizti kultur etxea (Zumarraga) (Legazpi Kalea\, 7\, 20700 Z
 umarraga\, Gipuzkoa\, Spain)
SUMMARY:HAURRENTZAKO GABONETAKO KRISMA ETA IPUIN LEHIAKETAK
URL:https://urretxu.eus/eu/sustapen-soziokulturala/kultura/ekitaldia/17265-
 haurrentzako-gabonetako-krisma-eta-ipuin-lehiaketak/
END:VEVENT
END:VCALENDAR
