BEGIN:VCALENDAR
VERSION:2.0
PRODID:-//https://urretxu.eus///NONSGML kigkonsult.se iCalcreator 2.10.15//
METHOD:PUBLISH
BEGIN:VEVENT
UID:20260420T061156UTC-8542kiJR6p@https://urretxu.eus/
DTSTAMP:20260420T061156Z
DESCRIPTION:Urretxu eta Zumarragako Musika Elkarteak\n19\, 20\, 21\, 22 eta
  27 ostirala\, larunbata\nEgunean zehar https://urretxu.eus/eu/sustapen-so
 ziokulturala/kultura/ekitaldia/17253-santa-zezilia-kalejirak/
DTSTART:20211119T090000Z
DTEND:20211122T190000Z
LOCATION:Urretxu eta Zumarragako kaleak (Labeaga Kalea\, 18\, 20700 Urretxu
 \, Gipuzkoa\, Spain)
SUMMARY:SANTA ZEZILIA KALEJIRAK
URL:https://urretxu.eus/eu/sustapen-soziokulturala/kultura/ekitaldia/17253-
 santa-zezilia-kalejirak/
END:VEVENT
END:VCALENDAR
