BEGIN:VCALENDAR
VERSION:2.0
PRODID:-//https://urretxu.eus///NONSGML kigkonsult.se iCalcreator 2.10.15//
METHOD:PUBLISH
BEGIN:VEVENT
UID:20260420T122552UTC-4792FiIoRu@https://urretxu.eus/
DTSTAMP:20260420T122552Z
DESCRIPTION:“CÁRCELES BOLLERAS”\, Dir.: Cecilia Montagut (España\, Argentin
 a\, 2018\, 60 min.\, VOE). Zuzendaria bertan egongo da\n\nButak 21 Zine Kl
 uba\n\nSarrera: 4€\nBonoa: 40 € https://urretxu.eus/eu/sustapen-soziokultu
 rala/kultura/ekitaldia/17198-zine-klub-saioa/
DTSTART:20211006T183000Z
DTEND:20211006T200000Z
LOCATION:Zelai Arizti aretoa (Zumarraga) (Legazpi Kalea\, 7\, 20700 Zumarra
 ga\, Gipuzkoa\, Spain)
SUMMARY:ZINE KLUB SAIOA 
URL:https://urretxu.eus/eu/sustapen-soziokulturala/kultura/ekitaldia/17198-
 zine-klub-saioa/
END:VEVENT
END:VCALENDAR
