BEGIN:VCALENDAR
VERSION:2.0
PRODID:-//https://urretxu.eus///NONSGML kigkonsult.se iCalcreator 2.10.15//
METHOD:PUBLISH
BEGIN:VEVENT
UID:20260420T074817UTC-3237sUHt3x@https://urretxu.eus/
DTSTAMP:20260420T074817Z
DESCRIPTION:INTERESGUNEA: “MADE IN ASPACE” ¿QUÉ VES DETRÁS DEL CESTO?\n\nGo
 nbidapen banaketa liburutegian urriaren 4tik aurrera\n\n https://urretxu.e
 us/eu/sustapen-soziokulturala/kultura/ekitaldia/17177-liburutegiaren-50-ur
 teurrena/
DTSTART:20211026T170000Z
DTEND:20211026T180000Z
LOCATION:Urretxuko Liburutegia (Jauregi Kalea\, 21\, 20700 Urretxu\, Gipuzk
 oa\, Spain)
SUMMARY:LIBURUTEGIAREN 50. URTEURRENA
URL:https://urretxu.eus/eu/sustapen-soziokulturala/kultura/ekitaldia/17177-
 liburutegiaren-50-urteurrena/
END:VEVENT
END:VCALENDAR
