BEGIN:VCALENDAR
VERSION:2.0
PRODID:-//https://urretxu.eus///NONSGML kigkonsult.se iCalcreator 2.10.15//
METHOD:PUBLISH
BEGIN:VEVENT
UID:20260420T075012UTC-71190CmDlU@https://urretxu.eus/
DTSTAMP:20260420T075012Z
DESCRIPTION:Las bases en las páginas web de los ayuntamientos de Urretxu y 
 Zumarraga \nOrganiza: Ayuntamientos de Urretxu y Zumarraga https://urretxu
 .eus/eu/sustapen-soziokulturala/kultura/ekitaldia/17176-xiii-concurso-de-p
 intura-al-aire-libre/
DTSTART:20230617T070000Z
DTEND:20230617T113000Z
LOCATION:Zelai Arizti kultur etxea (Zumarraga) (Legazpi Kalea\, 7\, 20700 Z
 umarraga\, Gipuzkoa\, Spain)
SUMMARY:XIII. CONCURSO DE PINTURA AL AIRE LIBRE
URL:https://urretxu.eus/eu/sustapen-soziokulturala/kultura/ekitaldia/17176-
 xiii-concurso-de-pintura-al-aire-libre/
END:VEVENT
END:VCALENDAR
