BEGIN:VCALENDAR
VERSION:2.0
PRODID:-//https://urretxu.eus///NONSGML kigkonsult.se iCalcreator 2.10.15//
METHOD:PUBLISH
BEGIN:VEVENT
UID:20260420T075331UTC-1105bpGktM@https://urretxu.eus/
DTSTAMP:20260420T075331Z
DESCRIPTION:MUNDUKO EMAKUMEEN LITERATURAREN KLUBA\nLiburua: 'Parentesco'\, 
 de Octavia E. Butler. https://urretxu.eus/eu/sustapen-soziokulturala/kultu
 ra/ekitaldia/17144-munduko-emakumeen-literaturaren-kluba/
DTSTART:20211028T163000Z
DTEND:20211028T173000Z
LOCATION:Aizpurunea Kultur Etxea (Urretxu) (Jauregi Kalea\, 19\, 20700 Urre
 txu\, Gipuzkoa\, Spain)
SUMMARY: MUNDUKO EMAKUMEEN LITERATURAREN KLUBA 
URL:https://urretxu.eus/eu/sustapen-soziokulturala/kultura/ekitaldia/17144-
 munduko-emakumeen-literaturaren-kluba/
END:VEVENT
END:VCALENDAR
