BEGIN:VCALENDAR
VERSION:2.0
PRODID:-//https://urretxu.eus///NONSGML kigkonsult.se iCalcreator 2.10.15//
METHOD:PUBLISH
BEGIN:VEVENT
UID:20260420T042114UTC-86590CNlW0@https://urretxu.eus/
DTSTAMP:20260420T042114Z
DESCRIPTION:EGUNA: asteartea 18\nORDUA: 10:00 – 13:00 / 17:00 – 20:00\nTOKI
 A: Urrelur museoa - kultur etxea (Urretxu)\nANTOLATZAILEA: Urrelur Museoa 
 – Museoen eguna\nAforo mugatua - aldez aurreko erreserba 943 03 80 88\n  h
 ttps://urretxu.eus/eu/sustapen-soziokulturala/kultura/ekitaldia/17141-muse
 oen-nazioarteko-eguna-ate-irekiak-urrelur-museoan/
DTSTART;VALUE=DATE:20210518
LOCATION:Urrelur. Mineral eta fosil museoa (Urretxu) (Jauregi Kalea\, 19\, 
 20700 Urretxu\, Gipuzkoa\, Spain)
SUMMARY:MUSEOEN NAZIOARTEKO EGUNA - ATE IREKIAK URRELUR MUSEOAN
URL:https://urretxu.eus/eu/sustapen-soziokulturala/kultura/ekitaldia/17141-
 museoen-nazioarteko-eguna-ate-irekiak-urrelur-museoan/
END:VEVENT
END:VCALENDAR
