BEGIN:VCALENDAR
VERSION:2.0
PRODID:-//https://urretxu.eus///NONSGML kigkonsult.se iCalcreator 2.10.15//
METHOD:PUBLISH
BEGIN:VEVENT
UID:20260420T060603UTC-0837U2oUCZ@https://urretxu.eus/
DTSTAMP:20260420T060603Z
DESCRIPTION:AKUARELA IKASTAROA MASTER CLASS Mendorekin aire librean.\n  htt
 ps://urretxu.eus/eu/sustapen-soziokulturala/kultura/ekitaldia/17138-akuare
 la-ikastaroa-master-class-kalean-mendorekin/
DTSTART:20210515T080000Z
DTEND:20210515T120000Z
LOCATION:Urretxuko kaleetan zehar (Iparragirre Kalea\, 20700 Urretxu\, Gipu
 zkoa\, Spain)
SUMMARY:AKUARELA IKASTAROA MASTER CLASS  KALEAN. Mendorekin  
URL:https://urretxu.eus/eu/sustapen-soziokulturala/kultura/ekitaldia/17138-
 akuarela-ikastaroa-master-class-kalean-mendorekin/
END:VEVENT
END:VCALENDAR
