BEGIN:VCALENDAR
VERSION:2.0
PRODID:-//https://urretxu.eus///NONSGML kigkonsult.se iCalcreator 2.10.15//
METHOD:PUBLISH
BEGIN:VEVENT
UID:20260420T061231UTC-9218R4ughZ@https://urretxu.eus/
DTSTAMP:20260420T061231Z
DESCRIPTION:943038827Antolatzailea: Urretxuko eta Zumarragako Udala\nUrtarr
 ilaren 1 eta 6an itxita https://urretxu.eus/eu/sustapen-soziokulturala/kul
 tura/ekitaldia/16878-gazte-bidean-nerabeentzako-udal-zerbitzua/
DTSTART:20201224T153000Z
DTEND:20201224T190000Z
LOCATION:Iparragirre plaza (Urretxu) (Iparragirre Kalea\, 22\, 20700 Urretx
 u\, Gipuzkoa\, Spain)
SUMMARY:Gazte bidean nerabeentzako udal zerbitzua
URL:https://urretxu.eus/eu/sustapen-soziokulturala/kultura/ekitaldia/16878-
 gazte-bidean-nerabeentzako-udal-zerbitzua/
END:VEVENT
END:VCALENDAR
