BEGIN:VCALENDAR
VERSION:2.0
PRODID:-//https://urretxu.eus///NONSGML kigkonsult.se iCalcreator 2.10.15//
METHOD:PUBLISH
BEGIN:VEVENT
UID:20260420T055604UTC-7830WVOOx2@https://urretxu.eus/
DTSTAMP:20260420T055604Z
DESCRIPTION:HITZALDIA: “CHARLIE SMITH y LA ESPECIE OCULTA”\, Unai Madina Li
 zarralde\nAntolatzailea: Urretxuko udala https://urretxu.eus/eu/sustapen-s
 oziokulturala/kultura/ekitaldia/16546-interesgunea-gazte-sortzaileak/
DTSTART:20210127T170000Z
DTEND:20210127T180000Z
LOCATION:Urretxuko Liburutegia (Jauregi Kalea\, 21\, 20700 Urretxu\, Gipuzk
 oa\, Spain)
SUMMARY:Interesgunea: gazte sortzaileak
URL:https://urretxu.eus/eu/sustapen-soziokulturala/kultura/ekitaldia/16546-
 interesgunea-gazte-sortzaileak/
END:VEVENT
END:VCALENDAR
