BEGIN:VCALENDAR
VERSION:2.0
PRODID:-//https://urretxu.eus///NONSGML kigkonsult.se iCalcreator 2.10.15//
METHOD:PUBLISH
BEGIN:VEVENT
UID:20260420T122643UTC-0779dctlOa@https://urretxu.eus/
DTSTAMP:20260420T122643Z
DESCRIPTION:“JOSEP”\, Aurel (Francia) Antolatzailea: Butak 21 Zine Kluba ht
 tps://urretxu.eus/eu/sustapen-soziokulturala/kultura/ekitaldia/16528-zine-
 klub-saioak/
DTSTART:20210121T180000Z
DTEND:20210121T200000Z
LOCATION:Zelai Arizti aretoa (Zumarraga) (Legazpi Kalea\, 7\, 20700 Zumarra
 ga\, Gipuzkoa\, Spain)
SUMMARY:Zine klub saioak
URL:https://urretxu.eus/eu/sustapen-soziokulturala/kultura/ekitaldia/16528-
 zine-klub-saioak/
END:VEVENT
END:VCALENDAR
