BEGIN:VCALENDAR
VERSION:2.0
PRODID:-//https://urretxu.eus///NONSGML kigkonsult.se iCalcreator 2.10.15//
METHOD:PUBLISH
BEGIN:VEVENT
UID:20260420T041659UTC-9511fCNGd5@https://urretxu.eus/
DTSTAMP:20260420T041659Z
DESCRIPTION:“Euskañolitis” bakarrizketa umoretsua eskeiniko da herrian. Eus
 karaldia gainera datorkigu eta hau ospatzeko saio paregabe hau antolatu da
 . Umorea eta sarkasmoa erabiliz barre eragiteaz gain euskararen erabilerar
 en inguruko hainbat hausnarketa egitera gonbidatzen duen saioa da.Oihan Ve
 ga aurkezle ezaguna da interpretea. https://urretxu.eus/eu/sustapen-soziok
 ulturala/kultura/ekitaldia/16510-euskanolitis-bakarrizketa/
DTSTART:20201203T180000Z
DTEND:20201203T193000Z
LOCATION:Zelai Arizti aretoa (Zumarraga) (Legazpi Kalea\, 7\, 20700 Zumarra
 ga\, Gipuzkoa\, Spain)
SUMMARY:'Euskañolitis' bakarrizketa 
URL:https://urretxu.eus/eu/sustapen-soziokulturala/kultura/ekitaldia/16510-
 euskanolitis-bakarrizketa/
END:VEVENT
END:VCALENDAR
