BEGIN:VCALENDAR
VERSION:2.0
PRODID:-//https://urretxu.eus///NONSGML kigkonsult.se iCalcreator 2.10.15//
METHOD:PUBLISH
BEGIN:VEVENT
UID:20260420T060531UTC-6003RGi91E@https://urretxu.eus/
DTSTAMP:20260420T060531Z
DESCRIPTION:La  Real Sociedad Vascongada de Amigos del País celebrará en Ma
 drid  una semana Cultural con obras de teatro\, charlas\, y demás activida
 des culturales en  homenaje a Jose Mari Iparragirre. . https://urretxu.eus
 /eu/sustapen-soziokulturala/kultura/ekitaldia/16311-semana-culltural-iparr
 agirre-madrid/
DTSTART;VALUE=DATE:20200618
LOCATION:Madrid ()
SUMMARY:Semana Culltural Iparragirre. Madrid
URL:https://urretxu.eus/eu/sustapen-soziokulturala/kultura/ekitaldia/16311-
 semana-culltural-iparragirre-madrid/
END:VEVENT
END:VCALENDAR
