BEGIN:VCALENDAR
VERSION:2.0
PRODID:-//https://urretxu.eus///NONSGML kigkonsult.se iCalcreator 2.10.15//
METHOD:PUBLISH
BEGIN:VEVENT
UID:20260420T042115UTC-1489BrevI5@https://urretxu.eus/
DTSTAMP:20260420T042115Z
DESCRIPTION:EGUNA: 4\, asteartea\nORDUA: arratsaldez\nTOKIA: Urretxu eta Zu
 marragako kaleak\nANTOLATZAILEA: Ikastetxeak eta Goiargi abesbatza\n\n  ht
 tps://urretxu.eus/eu/sustapen-soziokulturala/kultura/ekitaldia/16107-santa
 -ageda-bezperako-koplak-abestuz-kalejirak/
DTSTART:20230204T163000Z
DTEND:20230204T170000Z
LOCATION:Urretxu eta Zumarragako kaleak (Labeaga Kalea\, 18\, 20700 Urretxu
 \, Gipuzkoa\, Spain)
SUMMARY:SANTA AGEDA BEZPERAKO KOPLAK ABESTUZ KALEJIRAK
URL:https://urretxu.eus/eu/sustapen-soziokulturala/kultura/ekitaldia/16107-
 santa-ageda-bezperako-koplak-abestuz-kalejirak/
END:VEVENT
END:VCALENDAR
