BEGIN:VCALENDAR
VERSION:2.0
PRODID:-//https://urretxu.eus///NONSGML kigkonsult.se iCalcreator 2.10.15//
METHOD:PUBLISH
BEGIN:VEVENT
UID:20260420T074818UTC-9873dG7w4g@https://urretxu.eus/
DTSTAMP:20260420T074818Z
DESCRIPTION:DÍA: hasta el 29 de Noviembre\nHORA: 20:00\nCONCURSOS INFANTILE
 S DE NAVIDAD\nLUGAR: Zelai Arizti kultur etxea (Zumarraga). Aizpurunea kul
 tur etxea (Urretxu)\nORGANIZA: Urretxu eta Zumarragako udalak\n\n  https:/
 /urretxu.eus/eu/sustapen-soziokulturala/kultura/ekitaldia/15516-concursos-
 infantiles-de-navidad/
DTSTART;VALUE=DATE:20221101
LOCATION:Zelai Arizti kultur etxea (Zumarraga) (Legazpi Kalea\, 7\, 20700 Z
 umarraga\, Gipuzkoa\, Spain)
SUMMARY:CONCURSOS INFANTILES DE NAVIDAD
URL:https://urretxu.eus/eu/sustapen-soziokulturala/kultura/ekitaldia/15516-
 concursos-infantiles-de-navidad/
END:VEVENT
END:VCALENDAR
