BEGIN:VCALENDAR
VERSION:2.0
PRODID:-//https://urretxu.eus///NONSGML kigkonsult.se iCalcreator 2.10.15//
METHOD:PUBLISH
BEGIN:VEVENT
UID:20260420T041943UTC-1762n0rTzA@https://urretxu.eus/
DTSTAMP:20260420T041943Z
DESCRIPTION: https://urretxu.eus/eu/sustapen-soziokulturala/kultura/ekitald
 ia/14711-irimora-xxxix-igoera-2019/
DTSTART:20190624T103000Z
DTEND:20190624T133000Z
LOCATION:Santa Barbara Aterpetxea (Urretxu) (Lugar Diseminados\, 40Y\, 2070
 0\, Gipuzkoa\, Spain)
SUMMARY:Irimora XXXIX. igoera 2019
URL:https://urretxu.eus/eu/sustapen-soziokulturala/kultura/ekitaldia/14711-
 irimora-xxxix-igoera-2019/
END:VEVENT
END:VCALENDAR
