BEGIN:VCALENDAR
VERSION:2.0
PRODID:-//https://urretxu.eus///NONSGML kigkonsult.se iCalcreator 2.10.15//
METHOD:PUBLISH
BEGIN:VEVENT
UID:20260420T074807UTC-4508C72b5L@https://urretxu.eus/
DTSTAMP:20260420T074807Z
DESCRIPTION:Organiza: Goierri Mendi Elkartea\nTRADICIONAL SUBIDA A IRIMO\n
 \nHabrá chorizo y caldo caliente para los que se animen a empezar el año a
 sí.\n https://urretxu.eus/eu/sustapen-soziokulturala/kultura/ekitaldia/139
 0-tradicional-subida-al-irimo/
DTSTART;VALUE=DATE:20170101
LOCATION:Goierri Kirol elkartea - Mendi Saila (Urretxu) (Labeaga Kalea\, 12
 \, 20700 Urretxu\, Gipuzkoa\, Spain)
SUMMARY:Tradicional subida al Irimo
URL:https://urretxu.eus/eu/sustapen-soziokulturala/kultura/ekitaldia/1390-t
 radicional-subida-al-irimo/
END:VEVENT
END:VCALENDAR
